BEGIN:VCALENDAR
VERSION:2.0
PRODID:PHP
METHOD:PUBLISH
X-WR-CALNAME:Schedule
X-WR-TIMEZONE:Europe/Prague
BEGIN:VTIMEZONE
TZID:Europe/Prague
BEGIN:DAYLIGHT
TZOFFSETFROM:-0500
TZOFFSETTO:-0400
DTSTART:1403086496
RRULE:FREQ=YEARLY;BYMONTH=3;BYDAY=2SU
TZNAME:EDT
END:DAYLIGHT
BEGIN:STANDARD
TZOFFSETFROM:-0400
TZOFFSETTO:-0500
DTSTART:1403086496
RRULE:FREQ=YEARLY;BYMONTH=11;BYDAY=1SU
TZNAME:EST
END:STANDARD
END:VTIMEZONE
BEGIN:VEVENT
DTSTART;TZID=Europe/Prague:20260928T000000
DTEND:20260928T235959
DTSTAMP:20260422T001201Z
LOCATION:Zásada 260\, 468 25  Zásada
DESCRIPTION:IX. ročník dálkového pochodu.
Trasy pro pěší: 7\,5 km\, 12\,5 km\, 20 km\, 30 km a 50 km
Cyklotrasa: 50 km
Prezentace: od 7:00 do 10:00 (trasa 50 km do 8:00)
 
SUMMARY:70. 000 kroků Jizerskými horami 2026
UID:26707
SEQUENCE:0
END:VEVENT
END:VCALENDAR
