BEGIN:VCALENDAR
VERSION:2.0
PRODID:PHP
METHOD:PUBLISH
X-WR-CALNAME:Schedule
X-WR-TIMEZONE:Europe/Prague
BEGIN:VTIMEZONE
TZID:Europe/Prague
BEGIN:DAYLIGHT
TZOFFSETFROM:-0500
TZOFFSETTO:-0400
DTSTART:1403086496
RRULE:FREQ=YEARLY;BYMONTH=3;BYDAY=2SU
TZNAME:EDT
END:DAYLIGHT
BEGIN:STANDARD
TZOFFSETFROM:-0400
TZOFFSETTO:-0500
DTSTART:1403086496
RRULE:FREQ=YEARLY;BYMONTH=11;BYDAY=1SU
TZNAME:EST
END:STANDARD
END:VTIMEZONE
BEGIN:VEVENT
DTSTART;TZID=Europe/Prague:20260606T000000
DTEND:20260606T235959
DTSTAMP:20260421T103448Z
LOCATION:U Sokolovny 161\, Moravské Knínice 664 34
DESCRIPTION:19. ročník turnaje žactva v badmintonu BADIBOJ 2026 se uskuteční v sobotu 6.6.2026v sokolovně v Moravských Knínicích. 
SUMMARY:BADIBOJ 2026
UID:26808
SEQUENCE:0
END:VEVENT
END:VCALENDAR
