BEGIN:VCALENDAR
VERSION:2.0
PRODID:PHP
METHOD:PUBLISH
X-WR-CALNAME:Schedule
X-WR-TIMEZONE:Europe/Prague
BEGIN:VTIMEZONE
TZID:Europe/Prague
BEGIN:DAYLIGHT
TZOFFSETFROM:-0500
TZOFFSETTO:-0400
DTSTART:1403086496
RRULE:FREQ=YEARLY;BYMONTH=3;BYDAY=2SU
TZNAME:EDT
END:DAYLIGHT
BEGIN:STANDARD
TZOFFSETFROM:-0400
TZOFFSETTO:-0500
DTSTART:1403086496
RRULE:FREQ=YEARLY;BYMONTH=11;BYDAY=1SU
TZNAME:EST
END:STANDARD
END:VTIMEZONE
BEGIN:VEVENT
DTSTART;TZID=Europe/Prague:20231028T000000
DTEND:20231028T235959
DTSTAMP:20260420T234123Z
LOCATION:Obecní úřad Zlatá Olešnice\, Zlatá Olešnice 172\, 468 47
DESCRIPTION:Startujeme na parkovišti u OÚ ve Zlaté Olešnici (zázemí a WC k dispozici). 
Každý doběhnuvší obdrží medaili.
Startovné:
dospělí 200 \,- Kčděti 100\,- Kč
 
 
 
SUMMARY:Běh republiky Zlatá Olešnice
UID:9705
SEQUENCE:0
END:VEVENT
END:VCALENDAR
