BEGIN:VCALENDAR
VERSION:2.0
PRODID:PHP
METHOD:PUBLISH
X-WR-CALNAME:Schedule
X-WR-TIMEZONE:Europe/Prague
BEGIN:VTIMEZONE
TZID:Europe/Prague
BEGIN:DAYLIGHT
TZOFFSETFROM:-0500
TZOFFSETTO:-0400
DTSTART:1403086496
RRULE:FREQ=YEARLY;BYMONTH=3;BYDAY=2SU
TZNAME:EDT
END:DAYLIGHT
BEGIN:STANDARD
TZOFFSETFROM:-0400
TZOFFSETTO:-0500
DTSTART:1403086496
RRULE:FREQ=YEARLY;BYMONTH=11;BYDAY=1SU
TZNAME:EST
END:STANDARD
END:VTIMEZONE
BEGIN:VEVENT
DTSTART;TZID=Europe/Prague:20240128T000000
DTEND:20240128T235959
DTSTAMP:20260420T203805Z
LOCATION:Zimní stadion Beroun
DESCRIPTION:Sokol Hlásná Třebaň pořádá lední bruslení pro všechny věkové kategorie.
Sobota 28.1.2024 od 10.15 do 11.15 hodin na zimním stadionu v Berouně.
Brusle si zajistí každý sám. Děti do 18ti let povinná helma. Předškolní děti pouze v doprovodu rodičů. Účast je nutné nahlásit na tel 605969741. Kapacita je omezená. Hrazdičky pro úplné začátečníky jsou k dispozici.
SUMMARY:Bruslení se Sokolem
UID:8881
SEQUENCE:0
END:VEVENT
END:VCALENDAR
