BEGIN:VCALENDAR
VERSION:2.0
PRODID:PHP
METHOD:PUBLISH
X-WR-CALNAME:Schedule
X-WR-TIMEZONE:Europe/Prague
BEGIN:VTIMEZONE
TZID:Europe/Prague
BEGIN:DAYLIGHT
TZOFFSETFROM:-0500
TZOFFSETTO:-0400
DTSTART:1403086496
RRULE:FREQ=YEARLY;BYMONTH=3;BYDAY=2SU
TZNAME:EDT
END:DAYLIGHT
BEGIN:STANDARD
TZOFFSETFROM:-0400
TZOFFSETTO:-0500
DTSTART:1403086496
RRULE:FREQ=YEARLY;BYMONTH=11;BYDAY=1SU
TZNAME:EST
END:STANDARD
END:VTIMEZONE
BEGIN:VEVENT
DTSTART;TZID=Europe/Prague:20251102T000000
DTEND:20261215T235959
DTSTAMP:20260425T125207Z
LOCATION:Sokolovna Lány
DESCRIPTION:•  2. listopadu od 18:30 hodin vás čeká předáška z tropické Malajsie s Martinou Hořejší
•  23. listopadu od 17 hodin proběhne cestovatelká přednáška z Kyrgyzstánu\, který v rámci letní školy navštívil student ČZU Adam Hořejší
• 14. prosince od 17 hodin vás čeká povídání o dalekém karibském ostrově Martinik. O své zážitky a fotografie z jedenáctiletého pobytu na tomto zeleném ostrově\, plném nádherných květin\, pláží\, ovoce a rumu\, se s vámi podělí Václava Barochová.
• 11. ledna od 17 hodin svůj pohled na studijní pobyt v Norsku a cestu do Laponska zprostředkuje Anežka Bláhová\, studentka VŠ.
• 25. ledna od 17 hodin vás vezme Jana Porcalová na všesokolský slet do Chicaga a přiblíží vám své cestování po USA.
• 8. února od 17 hodin vám svou cestu na mexický Yucatán vylíčí Lada Kosárová.
• 1. března od 17 hodin uslyšíte o tříměsíčním puto vání s rodinou po Novém Zélandu z úst průvodkyně Kateřiny Kodrasové.
• 15. března od 17 hodin vám Zemi vycházejícího slunce – Japonsko představí Lenka Maixnerová.
Přednášky se konají v lánské sokolovně v 1. patře (Domečku). Vstupné je dobrovolné. 
SUMMARY:Cestovatelské přednášky
UID:23899
SEQUENCE:0
END:VEVENT
END:VCALENDAR
