BEGIN:VCALENDAR
VERSION:2.0
PRODID:PHP
METHOD:PUBLISH
X-WR-CALNAME:Schedule
X-WR-TIMEZONE:Europe/Prague
BEGIN:VTIMEZONE
TZID:Europe/Prague
BEGIN:DAYLIGHT
TZOFFSETFROM:-0500
TZOFFSETTO:-0400
DTSTART:1403086496
RRULE:FREQ=YEARLY;BYMONTH=3;BYDAY=2SU
TZNAME:EDT
END:DAYLIGHT
BEGIN:STANDARD
TZOFFSETFROM:-0400
TZOFFSETTO:-0500
DTSTART:1403086496
RRULE:FREQ=YEARLY;BYMONTH=11;BYDAY=1SU
TZNAME:EST
END:STANDARD
END:VTIMEZONE
BEGIN:VEVENT
DTSTART;TZID=Europe/Prague:20230604T000000
DTEND:20230604T235959
DTSTAMP:20260424T064812Z
LOCATION:T.J. Sokol Černošice\, Fügnerova 263\, 252 28 Černošice
DESCRIPTION:Akce určená pro rodiče s dětmi jako oslava Dne dětí pořádaná Městským úřadem Černošice ve spolupráci se Sokolem a Mateřským centrem Mraveniště. Účastníci se mohou těšit na různé úkoly\, pohádkové čtení nebo divadlo. Za splnění všech úkolů budou děti odměněni.
SUMMARY:Den dětí 2023
UID:9262
SEQUENCE:0
END:VEVENT
END:VCALENDAR
