BEGIN:VCALENDAR
VERSION:2.0
PRODID:PHP
METHOD:PUBLISH
X-WR-CALNAME:Schedule
X-WR-TIMEZONE:Europe/Prague
BEGIN:VTIMEZONE
TZID:Europe/Prague
BEGIN:DAYLIGHT
TZOFFSETFROM:-0500
TZOFFSETTO:-0400
DTSTART:1403086496
RRULE:FREQ=YEARLY;BYMONTH=3;BYDAY=2SU
TZNAME:EDT
END:DAYLIGHT
BEGIN:STANDARD
TZOFFSETFROM:-0400
TZOFFSETTO:-0500
DTSTART:1403086496
RRULE:FREQ=YEARLY;BYMONTH=11;BYDAY=1SU
TZNAME:EST
END:STANDARD
END:VTIMEZONE
BEGIN:VEVENT
DTSTART;TZID=Europe/Prague:20231114T000000
DTEND:20231114T235959
DTSTAMP:20260423T231820Z
LOCATION:Dalešice 194\, 67554
DESCRIPTION:motivační scénka\, lampionová stezka\, setkání na Městečku\, drobné občerstvení
Sraz v 17.00 hodin před sokolovnou.
 

SUMMARY:lampionový průvod Dalešice 2023
UID:12823
SEQUENCE:0
END:VEVENT
END:VCALENDAR
