BEGIN:VCALENDAR
VERSION:2.0
PRODID:PHP
METHOD:PUBLISH
X-WR-CALNAME:Schedule
X-WR-TIMEZONE:Europe/Prague
BEGIN:VTIMEZONE
TZID:Europe/Prague
BEGIN:DAYLIGHT
TZOFFSETFROM:-0500
TZOFFSETTO:-0400
DTSTART:1403086496
RRULE:FREQ=YEARLY;BYMONTH=3;BYDAY=2SU
TZNAME:EDT
END:DAYLIGHT
BEGIN:STANDARD
TZOFFSETFROM:-0400
TZOFFSETTO:-0500
DTSTART:1403086496
RRULE:FREQ=YEARLY;BYMONTH=11;BYDAY=1SU
TZNAME:EST
END:STANDARD
END:VTIMEZONE
BEGIN:VEVENT
DTSTART;TZID=Europe/Prague:20250628T000000
DTEND:20250712T235959
DTSTAMP:20260421T184331Z
LOCATION:Ledce u Mladé Boleslavi
DESCRIPTION:Tradiční dětský letní tábor pro děti od 2. do 9. třídy. Tábor je umístěn v lesním prostření v blízkosti rybníky ke koupání. Zaměření tábora je sportovně tábornické.
SUMMARY:Letní dětský tábor
UID:18281
SEQUENCE:0
END:VEVENT
END:VCALENDAR
