BEGIN:VCALENDAR
VERSION:2.0
PRODID:PHP
METHOD:PUBLISH
X-WR-CALNAME:Schedule
X-WR-TIMEZONE:Europe/Prague
BEGIN:VTIMEZONE
TZID:Europe/Prague
BEGIN:DAYLIGHT
TZOFFSETFROM:-0500
TZOFFSETTO:-0400
DTSTART:1403086496
RRULE:FREQ=YEARLY;BYMONTH=3;BYDAY=2SU
TZNAME:EDT
END:DAYLIGHT
BEGIN:STANDARD
TZOFFSETFROM:-0400
TZOFFSETTO:-0500
DTSTART:1403086496
RRULE:FREQ=YEARLY;BYMONTH=11;BYDAY=1SU
TZNAME:EST
END:STANDARD
END:VTIMEZONE
BEGIN:VEVENT
DTSTART;TZID=Europe/Prague:20221208T000000
DTEND:20221208T235959
DTSTAMP:20260421T042046Z
LOCATION:Sokolovna Kralice na Hané
DESCRIPTION:Sraz cvičících dětí v Sokole Kralice na Hané v sále sokolovny 8.12.2022 v 16hod 30min. Děti si trochu zatančily zacvičili před rodiči. Předvedli co se naučily. Zpívala se písnička o Mikuláši. Potom proběhla nadílka od mikuláše s andělem a čertem. Následovalo menší občerstvení pro děti. 
SUMMARY:Mikulášská nadílka s čertem
UID:8428
SEQUENCE:0
END:VEVENT
END:VCALENDAR
