BEGIN:VCALENDAR
VERSION:2.0
PRODID:PHP
METHOD:PUBLISH
X-WR-CALNAME:Schedule
X-WR-TIMEZONE:Europe/Prague
BEGIN:VTIMEZONE
TZID:Europe/Prague
BEGIN:DAYLIGHT
TZOFFSETFROM:-0500
TZOFFSETTO:-0400
DTSTART:1403086496
RRULE:FREQ=YEARLY;BYMONTH=3;BYDAY=2SU
TZNAME:EDT
END:DAYLIGHT
BEGIN:STANDARD
TZOFFSETFROM:-0400
TZOFFSETTO:-0500
DTSTART:1403086496
RRULE:FREQ=YEARLY;BYMONTH=11;BYDAY=1SU
TZNAME:EST
END:STANDARD
END:VTIMEZONE
BEGIN:VEVENT
DTSTART;TZID=Europe/Prague:20240928T000000
DTEND:20240928T235959
DTSTAMP:20260421T064823Z
LOCATION:Tyršův dům\, sídlo České obce sokolské\, Újezd 450\, Praha 1. 
DESCRIPTION:Návštěvníci se mohou zúčastnit komentovaných prohlídek Tyršova domu\, zaplavat si v bazénu\, poslechnout si koncert klasické hudby v krásných barokních prostorách nebo se něco zajímavého dozvědět na panelové výstavě o sokolech olympionicích. Zabaví se i děti\, pro které zahraje loutkové divadlo a pro které bude připraven dětský koutek. Vyzkoušet si mohou s lektory i skákání na trampolínách nebo opičí dráhu po tělocvičně. 
Volný vstup s programem je od 16 do 20 hodin\, prohlídky a návštěva bazénu je po celý den. Jak bazén vypadá\, se dozvíte tady na odkaze.
Ve velké tělocvičně A1Trampolíny s lektory 16.00-18.00 Opičí dráha s lektory 16.00-18.00 
V barokních prostorách Michnova paláceKoncert v 18.30-19.30 - komorní orchestr Hájíček zahraje díla Vivaldiho\, Mozarta\, Griega a Smetany 16.00-20.00 panelová výstava Svět sletů16.00-20.00 dětský koutek s omalovánkami\, vystřihovánkami\, hledáním rozdílů a dalšími věcmi  Soutěž o plavenky a trika Noci sokoloven 16.00-20.00
V divadle Kampa vedle Tyršova domu na adrese Nosticova 634/2a17.30-18.15 loutkové divadlo Jiskra s představením Popelka
Tematické komentované prohlídky Tyršova domu\, na prohlídku je nutná rezervace dopředu\, použijte tento formulář.
1) 9.00 (s Martinem): Dějinami Sokola od počátků podnes (Co Tyršův dům vypráví o dějinách Sokola?)2) 11.00 (s Adélou): Nejstarší architektonické kořeny Tyršova domu (V čem je Tyršův dům unikátní?)3) 13.00 (s Martinem): Po stopách nejvýznamnějších osobností (Kteří slavní lidé navštívili Tyršův dům?)4) 15.00 (s Adélou): Palác hraběte Michny z Vacínova (Jak se kdysi žilo v Michnově paláci?)5) 17.00 (s Martinem): Místnosti vyprávějí (Co zajímavého se událo v Tyršově domě?)6) 19.00 (s Adélou): Večerní prohlídka I (Jaký je Michnův palác za tmy?)7) 20.00 (s Martinem): Večerní prohlídka II (Jaký je Tyršův dům za tmy?)
10.00 až 20.00 plavání v bazénu Tyršova domuNavštivte v rámci Noci sokoloven nejstarší\, dosud funkční krytý bazén v Praze. Kapacita bazénu na konkrétní čas je omezena. V případě zájmu proto doporučujeme bazén včas rezervovat. Rezervace platí vždy na 1 hodinu a můžete ji provést pomocí tohoto formuláře. Pro Noc sokoloven jsou vyhrazeny dvě dráhy. 
SUMMARY:Noc sokoloven v Tyršově domě 2024
UID:15827
SEQUENCE:0
END:VEVENT
END:VCALENDAR
