BEGIN:VCALENDAR
VERSION:2.0
PRODID:PHP
METHOD:PUBLISH
X-WR-CALNAME:Schedule
X-WR-TIMEZONE:Europe/Prague
BEGIN:VTIMEZONE
TZID:Europe/Prague
BEGIN:DAYLIGHT
TZOFFSETFROM:-0500
TZOFFSETTO:-0400
DTSTART:1403086496
RRULE:FREQ=YEARLY;BYMONTH=3;BYDAY=2SU
TZNAME:EDT
END:DAYLIGHT
BEGIN:STANDARD
TZOFFSETFROM:-0400
TZOFFSETTO:-0500
DTSTART:1403086496
RRULE:FREQ=YEARLY;BYMONTH=11;BYDAY=1SU
TZNAME:EST
END:STANDARD
END:VTIMEZONE
BEGIN:VEVENT
DTSTART;TZID=Europe/Prague:20260617T000000
DTEND:20260617T235959
DTSTAMP:20260419T135616Z
LOCATION:Zásada 260\, 468 25  Zásada
DESCRIPTION:I letos se Zásada zapojila do olympijského běhu. Startuje se tradičně v osadě Zbytky v kategorii dospělých i dětí. Registrace probíhají on-line na www.olympijskybeh.cz až do 5.6.2026. Čím dříve se přihlásíš\, tím výhodnější je startovné.
Trasa pro dospělé vede malebnou krajinou Jizerských hor pod Muchovem a po Černostudničním Hřbetu a střídá se asfaltový\, štěrkový\, travnatý i kameny pokrytý povrch. Dětské trasy jsou v rámci osady Zbytky. 
V prostoru závodu je možnost občerstvení.
Přidej se k nám a vyběhni pro radost z pohybu a pro dobrou věc! Každý\, kdo se postaví na start přispěje také na konto České olympijské nadace.
 
SUMMARY:Olympijský běh Zásada 2026
UID:26696
SEQUENCE:0
END:VEVENT
END:VCALENDAR
