BEGIN:VCALENDAR
VERSION:2.0
PRODID:PHP
METHOD:PUBLISH
X-WR-CALNAME:Schedule
X-WR-TIMEZONE:Europe/Prague
BEGIN:VTIMEZONE
TZID:Europe/Prague
BEGIN:DAYLIGHT
TZOFFSETFROM:-0500
TZOFFSETTO:-0400
DTSTART:1403086496
RRULE:FREQ=YEARLY;BYMONTH=3;BYDAY=2SU
TZNAME:EDT
END:DAYLIGHT
BEGIN:STANDARD
TZOFFSETFROM:-0400
TZOFFSETTO:-0500
DTSTART:1403086496
RRULE:FREQ=YEARLY;BYMONTH=11;BYDAY=1SU
TZNAME:EST
END:STANDARD
END:VTIMEZONE
BEGIN:VEVENT
DTSTART;TZID=Europe/Prague:20250502T000000
DTEND:20250502T235959
DTSTAMP:20260421T182005Z
LOCATION:Hodslavice 
DESCRIPTION:Tradiční pálení čarodějnic na sokolském hřišti s programem " Prostě cirkus " \, s opékáním buřtů a volnou zábavou pro všechny věkové kategorie
SUMMARY:PÁLENÍ ČARODĚJNIC Hodslavice 2025
UID:20590
SEQUENCE:0
END:VEVENT
END:VCALENDAR
