BEGIN:VCALENDAR
VERSION:2.0
PRODID:PHP
METHOD:PUBLISH
X-WR-CALNAME:Schedule
X-WR-TIMEZONE:Europe/Prague
BEGIN:VTIMEZONE
TZID:Europe/Prague
BEGIN:DAYLIGHT
TZOFFSETFROM:-0500
TZOFFSETTO:-0400
DTSTART:1403086496
RRULE:FREQ=YEARLY;BYMONTH=3;BYDAY=2SU
TZNAME:EDT
END:DAYLIGHT
BEGIN:STANDARD
TZOFFSETFROM:-0400
TZOFFSETTO:-0500
DTSTART:1403086496
RRULE:FREQ=YEARLY;BYMONTH=11;BYDAY=1SU
TZNAME:EST
END:STANDARD
END:VTIMEZONE
BEGIN:VEVENT
DTSTART;TZID=Europe/Prague:20260502T000000
DTEND:20260502T235959
DTSTAMP:20260425T025606Z
LOCATION:Žďárská 158\, Nové Veselí
DESCRIPTION:TJ Sokol Nové Veselí\, Myslivecké sdružení a Zahrádkáři zvou příznivce k tradičnímu pochodu k prameni řeky Oslavy - "otevírání pramene".
 
Akce se uskuteční v sobotu 2.května 2026. Sraz účastníků je v Novém Veselí v 9:30 hodin u Sokolovny.
Občerstvení bude zajištěno v Myslivecké chatě pod hrází Matějovského rybníka.
SUMMARY:Pochod k prameni řeky Oslavy 2026
UID:27008
SEQUENCE:0
END:VEVENT
END:VCALENDAR
