BEGIN:VCALENDAR
VERSION:2.0
PRODID:PHP
METHOD:PUBLISH
X-WR-CALNAME:Schedule
X-WR-TIMEZONE:Europe/Prague
BEGIN:VTIMEZONE
TZID:Europe/Prague
BEGIN:DAYLIGHT
TZOFFSETFROM:-0500
TZOFFSETTO:-0400
DTSTART:1403086496
RRULE:FREQ=YEARLY;BYMONTH=3;BYDAY=2SU
TZNAME:EDT
END:DAYLIGHT
BEGIN:STANDARD
TZOFFSETFROM:-0400
TZOFFSETTO:-0500
DTSTART:1403086496
RRULE:FREQ=YEARLY;BYMONTH=11;BYDAY=1SU
TZNAME:EST
END:STANDARD
END:VTIMEZONE
BEGIN:VEVENT
DTSTART;TZID=Europe/Prague:20260525T000000
DTEND:20260525T235959
DTSTAMP:20260425T031034Z
LOCATION:ZŠ Hrádek u Rokycan
DESCRIPTION:Informace k akci – Překážková dráha
Termín: 25. května 2026 Místo: Základní škola Hrádek – tělocvična / venkovní areál Čas: 16:00–18:00 Pro koho: Děti všech věkových kategorií
Zveme všechny děti na odpoledne plné pohybu\, zábavy a sportovních výzev. Připravena bude překážková dráha\, kterou si mohou vyzkoušet malí i velcí. Akce je vhodná pro začátečníky i zkušené sportovce – cílem je radost z pohybu\, ne soutěžení.
Děti si mohou vyzkoušet různé typy překážek\, skoky\, slalom\, rovnováhu i rychlostní úseky. Na místě budou přítomni instruktoři\, kteří dětem pomohou a dohlédnou na bezpečnost.
Akce je zdarma a není nutná předchozí registrace. Stačí přijít a užít si sportovní odpoledne.
Těšíme se na vás!
SUMMARY:Překážková dráha
UID:26926
SEQUENCE:0
END:VEVENT
END:VCALENDAR
