BEGIN:VCALENDAR
VERSION:2.0
PRODID:PHP
METHOD:PUBLISH
X-WR-CALNAME:Schedule
X-WR-TIMEZONE:Europe/Prague
BEGIN:VTIMEZONE
TZID:Europe/Prague
BEGIN:DAYLIGHT
TZOFFSETFROM:-0500
TZOFFSETTO:-0400
DTSTART:1403086496
RRULE:FREQ=YEARLY;BYMONTH=3;BYDAY=2SU
TZNAME:EDT
END:DAYLIGHT
BEGIN:STANDARD
TZOFFSETFROM:-0400
TZOFFSETTO:-0500
DTSTART:1403086496
RRULE:FREQ=YEARLY;BYMONTH=11;BYDAY=1SU
TZNAME:EST
END:STANDARD
END:VTIMEZONE
BEGIN:VEVENT
DTSTART;TZID=Europe/Prague:20260527T000000
DTEND:20260527T235959
DTSTAMP:20260425T031055Z
LOCATION:Výšlap na rozhlednu Kotel z Kamenného Újezdu
DESCRIPTION:Výšlap na rozhlednu Kotel
Termín: 27. května 2026 Čas: 16:00–18:00 Místo: Rozhledna Kotel\, Kamenný Újezd u Rokycan Pro koho: Pro celou rodinu
Zveme všechny rodiče\, děti i přátele na společný rodinný výšlap na rozhlednu Kotel. Čeká nás pohodová trasa krásnou přírodou\, výhledy na okolí Rokycan a malé překvapení pro děti na vrcholu.
Akce je vhodná pro všechny věkové skupiny – tempo bude přizpůsobeno dětem i rodinám s kočárky. Doporučujeme sportovní obuv\, pití a dobrou náladu.
Účast je zdarma\, není nutná registrace. Přijďte si užít jarní odpoledne v pohybu a s úsměvem!
Těšíme se na vás!
SUMMARY:Rozhledna kotel 
UID:26929
SEQUENCE:0
END:VEVENT
END:VCALENDAR
