BEGIN:VCALENDAR
VERSION:2.0
PRODID:PHP
METHOD:PUBLISH
X-WR-CALNAME:Schedule
X-WR-TIMEZONE:Europe/Prague
BEGIN:VTIMEZONE
TZID:Europe/Prague
BEGIN:DAYLIGHT
TZOFFSETFROM:-0500
TZOFFSETTO:-0400
DTSTART:1403086496
RRULE:FREQ=YEARLY;BYMONTH=3;BYDAY=2SU
TZNAME:EDT
END:DAYLIGHT
BEGIN:STANDARD
TZOFFSETFROM:-0400
TZOFFSETTO:-0500
DTSTART:1403086496
RRULE:FREQ=YEARLY;BYMONTH=11;BYDAY=1SU
TZNAME:EST
END:STANDARD
END:VTIMEZONE
BEGIN:VEVENT
DTSTART;TZID=Europe/Prague:20260928T000000
DTEND:20260928T235959
DTSTAMP:20260422T000740Z
LOCATION:areál bývalé vojenské střelnice Moravské Knínice
DESCRIPTION:21. ročník cyklistického víceboje pro děti a žactvo se uskuteční tradičně na svátek sv. Václava 28.9.2026 ve 14 hodin v areálu bývalé vojenské střelnice v Moravských Knínicích.
SUMMARY:Špalcykloboj 2026
UID:26812
SEQUENCE:0
END:VEVENT
END:VCALENDAR
