BEGIN:VCALENDAR
VERSION:2.0
PRODID:PHP
METHOD:PUBLISH
X-WR-CALNAME:Schedule
X-WR-TIMEZONE:Europe/Prague
BEGIN:VTIMEZONE
TZID:Europe/Prague
BEGIN:DAYLIGHT
TZOFFSETFROM:-0500
TZOFFSETTO:-0400
DTSTART:1403086496
RRULE:FREQ=YEARLY;BYMONTH=3;BYDAY=2SU
TZNAME:EDT
END:DAYLIGHT
BEGIN:STANDARD
TZOFFSETFROM:-0400
TZOFFSETTO:-0500
DTSTART:1403086496
RRULE:FREQ=YEARLY;BYMONTH=11;BYDAY=1SU
TZNAME:EST
END:STANDARD
END:VTIMEZONE
BEGIN:VEVENT
DTSTART;TZID=Europe/Prague:20260509T000000
DTEND:20260509T235959
DTSTAMP:20260422T001432Z
LOCATION:Multifunkční hřiště\, Střelice 157\, 783 91 Uničov
DESCRIPTION:Veřejný turnaj ve hře MOLKKY dvoučlenných družstev (+max. 1 náhradník)
Sobota  9.5.2026 
registrace od 8:30 do 8:45\, zahájení turnaje 9:10\, ukončení v cca 17 hod
startovné 270 Kč/tým
místo konání: multifunkční hřiště s umělým povrchem vedle fotbalového hřiště na adrese Střelice 157\, 783 91 Uničov
přihlášky do 1.5.2026: zabreh@sprtec.info NEBO TEL.731 011 447
SUMMARY:Střelické hod
UID:26653
SEQUENCE:0
END:VEVENT
END:VCALENDAR
