BEGIN:VCALENDAR
VERSION:2.0
PRODID:PHP
METHOD:PUBLISH
X-WR-CALNAME:Schedule
X-WR-TIMEZONE:Europe/Prague
BEGIN:VTIMEZONE
TZID:Europe/Prague
BEGIN:DAYLIGHT
TZOFFSETFROM:-0500
TZOFFSETTO:-0400
DTSTART:1403086496
RRULE:FREQ=YEARLY;BYMONTH=3;BYDAY=2SU
TZNAME:EDT
END:DAYLIGHT
BEGIN:STANDARD
TZOFFSETFROM:-0400
TZOFFSETTO:-0500
DTSTART:1403086496
RRULE:FREQ=YEARLY;BYMONTH=11;BYDAY=1SU
TZNAME:EST
END:STANDARD
END:VTIMEZONE
BEGIN:VEVENT
DTSTART;TZID=Europe/Prague:20260528T000000
DTEND:20260528T235959
DTSTAMP:20260424T191432Z
LOCATION:park Královka\, Praha 6
DESCRIPTION:Zveme všechny na VI. sokolský dětský den\, který pořádá T.J. Sokol Praha - Břevnov 
SUMMARY:VI. Sokolský dětský den 28.5.2026
UID:26975
SEQUENCE:0
END:VEVENT
END:VCALENDAR
